BEGIN:VCALENDAR
VERSION:2.0
PRODID:-//hacksw/handcal//NONSGML v1.0//EN
BEGIN:VEVENT
SUMMARY:Beursault + TAE 05/2026
UID:cb70282d-d118-4d9c-9a4d-33fffd01368f
DTSTART:20260530T220000Z
DTEND:20260531T220000Z
LOCATION:Localisation   
CATEGORIES:Sportif
STATUS:
URL;VALUE=URI:https://www.arccd73.com/evenements/2026/05/31/beursault-tae-052026-2441957
END:VEVENT
END:VCALENDAR
